BEGIN:VCALENDAR
VERSION:2.0
PRODID:-//Golf Global Project - ECPv6.15.17.1//NONSGML v1.0//EN
CALSCALE:GREGORIAN
METHOD:PUBLISH
X-WR-CALNAME:Golf Global Project
X-ORIGINAL-URL:https://golfglobalproject.com
X-WR-CALDESC:Évènements pour Golf Global Project
REFRESH-INTERVAL;VALUE=DURATION:PT1H
X-Robots-Tag:noindex
X-PUBLISHED-TTL:PT1H
BEGIN:VTIMEZONE
TZID:Europe/Paris
BEGIN:DAYLIGHT
TZOFFSETFROM:+0100
TZOFFSETTO:+0200
TZNAME:CEST
DTSTART:20240331T010000
END:DAYLIGHT
BEGIN:STANDARD
TZOFFSETFROM:+0200
TZOFFSETTO:+0100
TZNAME:CET
DTSTART:20241027T010000
END:STANDARD
BEGIN:DAYLIGHT
TZOFFSETFROM:+0100
TZOFFSETTO:+0200
TZNAME:CEST
DTSTART:20250330T010000
END:DAYLIGHT
BEGIN:STANDARD
TZOFFSETFROM:+0200
TZOFFSETTO:+0100
TZNAME:CET
DTSTART:20251026T010000
END:STANDARD
BEGIN:DAYLIGHT
TZOFFSETFROM:+0100
TZOFFSETTO:+0200
TZNAME:CEST
DTSTART:20260329T010000
END:DAYLIGHT
BEGIN:STANDARD
TZOFFSETFROM:+0200
TZOFFSETTO:+0100
TZNAME:CET
DTSTART:20261025T010000
END:STANDARD
END:VTIMEZONE
BEGIN:VEVENT
DTSTART;TZID=Europe/Paris:20250522T080000
DTEND;TZID=Europe/Paris:20250525T170000
DTSTAMP:20260424T010214
CREATED:20250521T094548Z
LAST-MODIFIED:20250521T094548Z
UID:813-1747900800-1748192400@golfglobalproject.com
SUMMARY:Championnat de France par équipes Messieurs
DESCRIPTION:3ème Division C
URL:https://golfglobalproject.com/calendrier/championnat-de-france-par-equipes-messieurs/
LOCATION:GOLF BLUEGREEN PAU ARTIGUELOUVE\, Domaine de Saint-Michel\, ARTIGUELOUVE\, 64230\, France
CATEGORIES:Championnat de France
END:VEVENT
BEGIN:VEVENT
DTSTART;TZID=Europe/Paris:20250509T080000
DTEND;TZID=Europe/Paris:20250511T170000
DTSTAMP:20260424T010214
CREATED:20250329T100908Z
LAST-MODIFIED:20250521T093019Z
UID:721-1746777600-1746982800@golfglobalproject.com
SUMMARY:Grand Prix de Mont de Marsan
DESCRIPTION:Trophée Philippe Revel-Mouroz
URL:https://golfglobalproject.com/calendrier/grand-prix-de-mont-de-marsan/
LOCATION:GOLF DE MONT DE MARSAN\, Pessourdat\, SAINT AVIT\, 40090\, France
CATEGORIES:Grand prix WAGR
END:VEVENT
BEGIN:VEVENT
DTSTART;TZID=Europe/Paris:20250502T080000
DTEND;TZID=Europe/Paris:20250504T170000
DTSTAMP:20260424T010214
CREATED:20250329T095614Z
LAST-MODIFIED:20250521T092708Z
UID:712-1746172800-1746378000@golfglobalproject.com
SUMMARY:Grand Prix de Palmola
DESCRIPTION:
URL:https://golfglobalproject.com/calendrier/grand-prix-de-palmola/
LOCATION:GOLF COUNTRY CLUB DE PALMOLA\, Route d'Albi\, BUZET-SUR-TARN\, 31660\, France
CATEGORIES:Grand prix WAGR
END:VEVENT
BEGIN:VEVENT
DTSTART;TZID=Europe/Paris:20250426T080000
DTEND;TZID=Europe/Paris:20250427T170000
DTSTAMP:20260424T010214
CREATED:20250329T095452Z
LAST-MODIFIED:20250521T092630Z
UID:710-1745654400-1745773200@golfglobalproject.com
SUMMARY:Grand Prix de Mazamet
DESCRIPTION:
URL:https://golfglobalproject.com/calendrier/grand-prix-de-mazamet/
LOCATION:GOLF CLUB MAZAMET LA BAROUGE\, 665 route du Golf de la Barouge\, PONT DE L'ARN\, 81660\, France
CATEGORIES:Grand prix
END:VEVENT
BEGIN:VEVENT
DTSTART;TZID=Europe/Paris:20250419T080000
DTEND;TZID=Europe/Paris:20250421T170000
DTSTAMP:20260424T010214
CREATED:20250419T133708Z
LAST-MODIFIED:20250419T133708Z
UID:750-1745049600-1745254800@golfglobalproject.com
SUMMARY:Grand Prix de Caen la Mer
DESCRIPTION:
URL:https://golfglobalproject.com/calendrier/grand-prix-de-caen-la-mer/
LOCATION:GOLF DE CAEN LA MER\, Le Vallon\, BIEVILLE BEUVILLE\, 14112\, France
END:VEVENT
BEGIN:VEVENT
DTSTART;TZID=Europe/Paris:20250402T080000
DTEND;TZID=Europe/Paris:20250406T170000
DTSTAMP:20260424T010214
CREATED:20250328T181937Z
LAST-MODIFIED:20250329T092722Z
UID:682-1743580800-1743958800@golfglobalproject.com
SUMMARY:Championnat de France Messieurs Coupe Ganay et Trophée Jacques Leglise
DESCRIPTION:
URL:https://golfglobalproject.com/calendrier/championnat-de-france-messieurs-coupe-ganay-et-trophee-jacques-leglise/
LOCATION:GOLF COUNTRY CLUB DE CANNES MOUGINS\, 175 avenue du Golf\, MOUGINS\, 06250\, France
CATEGORIES:Championnat de France
END:VEVENT
BEGIN:VEVENT
DTSTART;TZID=Europe/Paris:20250321T080000
DTEND;TZID=Europe/Paris:20250323T190000
DTSTAMP:20260424T010214
CREATED:20250326T154455Z
LAST-MODIFIED:20250329T092758Z
UID:663-1742544000-1742756400@golfglobalproject.com
SUMMARY:Grand Prix de Nîmes Campagne
DESCRIPTION:
URL:https://golfglobalproject.com/calendrier/grand-prix-de-nimes-campagne/
LOCATION:Golf de Nimes Campagne\, 1360 Chemin du Mas de Campagne\, Nîmes\, 30900\, France
CATEGORIES:Grand prix WAGR
END:VEVENT
END:VCALENDAR