BEGIN:VCALENDAR
VERSION:2.0
PRODID:-//Golf Global Project - ECPv6.15.17.1//NONSGML v1.0//EN
CALSCALE:GREGORIAN
METHOD:PUBLISH
X-WR-CALNAME:Golf Global Project
X-ORIGINAL-URL:https://golfglobalproject.com
X-WR-CALDESC:Évènements pour Golf Global Project
REFRESH-INTERVAL;VALUE=DURATION:PT1H
X-Robots-Tag:noindex
X-PUBLISHED-TTL:PT1H
BEGIN:VTIMEZONE
TZID:Europe/Paris
BEGIN:DAYLIGHT
TZOFFSETFROM:+0100
TZOFFSETTO:+0200
TZNAME:CEST
DTSTART:20240331T010000
END:DAYLIGHT
BEGIN:STANDARD
TZOFFSETFROM:+0200
TZOFFSETTO:+0100
TZNAME:CET
DTSTART:20241027T010000
END:STANDARD
BEGIN:DAYLIGHT
TZOFFSETFROM:+0100
TZOFFSETTO:+0200
TZNAME:CEST
DTSTART:20250330T010000
END:DAYLIGHT
BEGIN:STANDARD
TZOFFSETFROM:+0200
TZOFFSETTO:+0100
TZNAME:CET
DTSTART:20251026T010000
END:STANDARD
BEGIN:DAYLIGHT
TZOFFSETFROM:+0100
TZOFFSETTO:+0200
TZNAME:CEST
DTSTART:20260329T010000
END:DAYLIGHT
BEGIN:STANDARD
TZOFFSETFROM:+0200
TZOFFSETTO:+0100
TZNAME:CET
DTSTART:20261025T010000
END:STANDARD
END:VTIMEZONE
BEGIN:VEVENT
DTSTART;TZID=Europe/Paris:20251018T080000
DTEND;TZID=Europe/Paris:20251021T170000
DTSTAMP:20260424T065901
CREATED:20250522T082535Z
LAST-MODIFIED:20250810T114628Z
UID:849-1760774400-1761066000@golfglobalproject.com
SUMMARY:Championnat de France Minimes Garçons
DESCRIPTION:Coupe Yan Le Quellec
URL:https://golfglobalproject.com/calendrier/championnat-de-france-minimes-garcons/
LOCATION:GOLF DE BIARRITZ LE PHARE\, 2 avenue Edith Cavell\, BIARRITZ\, 64200\, France
CATEGORIES:Championnat de France
END:VEVENT
BEGIN:VEVENT
DTSTART;TZID=Europe/Paris:20251031T080000
DTEND;TZID=Europe/Paris:20251102T170000
DTSTAMP:20260424T065901
CREATED:20250522T093621Z
LAST-MODIFIED:20250522T093621Z
UID:870-1761897600-1762102800@golfglobalproject.com
SUMMARY:Grand Prix d'Albret
DESCRIPTION:Trophée Bernard Betuing
URL:https://golfglobalproject.com/calendrier/grand-prix-dalbret/
LOCATION:ALBRET GOLF EXPERIENCE\, 177 Le Pusocq\, BARBASTE\, 47230\, France
CATEGORIES:Grand prix WAGR
END:VEVENT
END:VCALENDAR