BEGIN:VCALENDAR
VERSION:2.0
PRODID:-//Golf Global Project - ECPv6.15.17.1//NONSGML v1.0//EN
CALSCALE:GREGORIAN
METHOD:PUBLISH
X-ORIGINAL-URL:https://golfglobalproject.com
X-WR-CALDESC:Évènements pour Golf Global Project
REFRESH-INTERVAL;VALUE=DURATION:PT1H
X-Robots-Tag:noindex
X-PUBLISHED-TTL:PT1H
BEGIN:VTIMEZONE
TZID:Europe/Paris
BEGIN:DAYLIGHT
TZOFFSETFROM:+0100
TZOFFSETTO:+0200
TZNAME:CEST
DTSTART:20240331T010000
END:DAYLIGHT
BEGIN:STANDARD
TZOFFSETFROM:+0200
TZOFFSETTO:+0100
TZNAME:CET
DTSTART:20241027T010000
END:STANDARD
BEGIN:DAYLIGHT
TZOFFSETFROM:+0100
TZOFFSETTO:+0200
TZNAME:CEST
DTSTART:20250330T010000
END:DAYLIGHT
BEGIN:STANDARD
TZOFFSETFROM:+0200
TZOFFSETTO:+0100
TZNAME:CET
DTSTART:20251026T010000
END:STANDARD
BEGIN:DAYLIGHT
TZOFFSETFROM:+0100
TZOFFSETTO:+0200
TZNAME:CEST
DTSTART:20260329T010000
END:DAYLIGHT
BEGIN:STANDARD
TZOFFSETFROM:+0200
TZOFFSETTO:+0100
TZNAME:CET
DTSTART:20261025T010000
END:STANDARD
END:VTIMEZONE
BEGIN:VEVENT
DTSTART;TZID=Europe/Paris:20250815T080000
DTEND;TZID=Europe/Paris:20250817T170000
DTSTAMP:20260424T095306
CREATED:20250806T135221Z
LAST-MODIFIED:20250806T135317Z
UID:1000-1755244800-1755450000@golfglobalproject.com
SUMMARY:Grand Prix de Valgarde
DESCRIPTION:
URL:https://golfglobalproject.com/calendrier/grand-prix-de-valgarde/
LOCATION:GOLF DE VALGARDE\, Chemin de Rabasson\, LA GARDE\, 83130\, France
CATEGORIES:Grand prix WAGR
END:VEVENT
BEGIN:VEVENT
DTSTART;TZID=Europe/Paris:20250822T080000
DTEND;TZID=Europe/Paris:20250824T170000
DTSTAMP:20260424T095306
CREATED:20250522T092738Z
LAST-MODIFIED:20250823T154828Z
UID:861-1755849600-1756054800@golfglobalproject.com
SUMMARY:Grand Prix du Médoc
DESCRIPTION:
URL:https://golfglobalproject.com/calendrier/grand-prix-du-medoc/
LOCATION:CABOT BORDEAUX\, Chemin de Courmateau\, LE PIAN MEDOC\, 33290\, France
CATEGORIES:Grand prix WAGR
END:VEVENT
BEGIN:VEVENT
DTSTART;TZID=Europe/Paris:20250829T080000
DTEND;TZID=Europe/Paris:20250831T170000
DTSTAMP:20260424T095306
CREATED:20250522T093115Z
LAST-MODIFIED:20250808T110508Z
UID:866-1756454400-1756659600@golfglobalproject.com
SUMMARY:Grand Prix de l'Ecogolf Ariège Pyrénées
DESCRIPTION:
URL:https://golfglobalproject.com/calendrier/grand-prix-de-lecogolf-ariege-pyrenees/
LOCATION:GOLF DE L’ARIEGE\, Unjat\, LA BASTIDE DE SEROU\, 09240\, France
CATEGORIES:Grand prix WAGR
END:VEVENT
END:VCALENDAR