BEGIN:VCALENDAR
VERSION:2.0
PRODID:-//Golf Global Project - ECPv6.15.17.1//NONSGML v1.0//EN
CALSCALE:GREGORIAN
METHOD:PUBLISH
X-WR-CALNAME:Golf Global Project
X-ORIGINAL-URL:https://golfglobalproject.com
X-WR-CALDESC:Évènements pour Golf Global Project
REFRESH-INTERVAL;VALUE=DURATION:PT1H
X-Robots-Tag:noindex
X-PUBLISHED-TTL:PT1H
BEGIN:VTIMEZONE
TZID:Europe/Paris
BEGIN:DAYLIGHT
TZOFFSETFROM:+0100
TZOFFSETTO:+0200
TZNAME:CEST
DTSTART:20240331T010000
END:DAYLIGHT
BEGIN:STANDARD
TZOFFSETFROM:+0200
TZOFFSETTO:+0100
TZNAME:CET
DTSTART:20241027T010000
END:STANDARD
BEGIN:DAYLIGHT
TZOFFSETFROM:+0100
TZOFFSETTO:+0200
TZNAME:CEST
DTSTART:20250330T010000
END:DAYLIGHT
BEGIN:STANDARD
TZOFFSETFROM:+0200
TZOFFSETTO:+0100
TZNAME:CET
DTSTART:20251026T010000
END:STANDARD
BEGIN:DAYLIGHT
TZOFFSETFROM:+0100
TZOFFSETTO:+0200
TZNAME:CEST
DTSTART:20260329T010000
END:DAYLIGHT
BEGIN:STANDARD
TZOFFSETFROM:+0200
TZOFFSETTO:+0100
TZNAME:CET
DTSTART:20261025T010000
END:STANDARD
END:VTIMEZONE
BEGIN:VEVENT
DTSTART;TZID=Europe/Paris:20250618T080000
DTEND;TZID=Europe/Paris:20250622T170000
DTSTAMP:20260424T130631
CREATED:20250521T091904Z
LAST-MODIFIED:20250521T091904Z
UID:798-1750233600-1750611600@golfglobalproject.com
SUMMARY:Championnat de France Dames
DESCRIPTION:Coupe Gaveau et Coupe Pierre Deschamps
URL:https://golfglobalproject.com/calendrier/championnat-de-france-dames/
LOCATION:GOLF DE FONTAINEBLEAU\, Route d'Orléans\, FONTAINEBLEAU\, 77300\, France
CATEGORIES:Championnat de France
END:VEVENT
END:VCALENDAR