BEGIN:VCALENDAR
VERSION:2.0
PRODID:-//Golf Global Project - ECPv6.15.17.1//NONSGML v1.0//EN
CALSCALE:GREGORIAN
METHOD:PUBLISH
X-WR-CALNAME:Golf Global Project
X-ORIGINAL-URL:https://golfglobalproject.com
X-WR-CALDESC:Évènements pour Golf Global Project
REFRESH-INTERVAL;VALUE=DURATION:PT1H
X-Robots-Tag:noindex
X-PUBLISHED-TTL:PT1H
BEGIN:VTIMEZONE
TZID:Europe/Paris
BEGIN:DAYLIGHT
TZOFFSETFROM:+0100
TZOFFSETTO:+0200
TZNAME:CEST
DTSTART:20240331T010000
END:DAYLIGHT
BEGIN:STANDARD
TZOFFSETFROM:+0200
TZOFFSETTO:+0100
TZNAME:CET
DTSTART:20241027T010000
END:STANDARD
BEGIN:DAYLIGHT
TZOFFSETFROM:+0100
TZOFFSETTO:+0200
TZNAME:CEST
DTSTART:20250330T010000
END:DAYLIGHT
BEGIN:STANDARD
TZOFFSETFROM:+0200
TZOFFSETTO:+0100
TZNAME:CET
DTSTART:20251026T010000
END:STANDARD
BEGIN:DAYLIGHT
TZOFFSETFROM:+0100
TZOFFSETTO:+0200
TZNAME:CEST
DTSTART:20260329T010000
END:DAYLIGHT
BEGIN:STANDARD
TZOFFSETFROM:+0200
TZOFFSETTO:+0100
TZNAME:CET
DTSTART:20261025T010000
END:STANDARD
END:VTIMEZONE
BEGIN:VEVENT
DTSTART;TZID=Europe/Paris:20250417T080000
DTEND;TZID=Europe/Paris:20250421T170000
DTSTAMP:20260424T161249
CREATED:20250329T100658Z
LAST-MODIFIED:20250521T092921Z
UID:719-1744876800-1745254800@golfglobalproject.com
SUMMARY:Internationaux de France U21 Filles - Championnat de France Cadettes
DESCRIPTION:Trophée Esmond\, Trophée Claude-Roger Cartier\, Coupe Vilmorin et Challenge Newman
URL:https://golfglobalproject.com/calendrier/internationaux-de-france-u21-filles-championnat-de-france-cadettes/
LOCATION:GOLF DE SAINT CLOUD\, 60 rue du 19 Janvier\, GARCHES\, 92380\, France
CATEGORIES:Internationaux
END:VEVENT
BEGIN:VEVENT
DTSTART;TZID=Europe/Paris:20250424T080000
DTEND;TZID=Europe/Paris:20250427T170000
DTSTAMP:20260424T161249
CREATED:20250401T150651Z
LAST-MODIFIED:20250401T150651Z
UID:732-1745481600-1745773200@golfglobalproject.com
SUMMARY:Internationaux d'Italie Dames
DESCRIPTION:
URL:https://golfglobalproject.com/calendrier/internationaux-ditalie-dames/
LOCATION:MARGARA GOLF CLUB\, Italy
CATEGORIES:Internationaux
END:VEVENT
END:VCALENDAR