BEGIN:VCALENDAR
VERSION:2.0
PRODID:-//Golf Global Project - ECPv6.15.17.1//NONSGML v1.0//EN
CALSCALE:GREGORIAN
METHOD:PUBLISH
X-WR-CALNAME:Golf Global Project
X-ORIGINAL-URL:https://golfglobalproject.com
X-WR-CALDESC:Évènements pour Golf Global Project
REFRESH-INTERVAL;VALUE=DURATION:PT1H
X-Robots-Tag:noindex
X-PUBLISHED-TTL:PT1H
BEGIN:VTIMEZONE
TZID:Europe/Paris
BEGIN:DAYLIGHT
TZOFFSETFROM:+0100
TZOFFSETTO:+0200
TZNAME:CEST
DTSTART:20240331T010000
END:DAYLIGHT
BEGIN:STANDARD
TZOFFSETFROM:+0200
TZOFFSETTO:+0100
TZNAME:CET
DTSTART:20241027T010000
END:STANDARD
BEGIN:DAYLIGHT
TZOFFSETFROM:+0100
TZOFFSETTO:+0200
TZNAME:CEST
DTSTART:20250330T010000
END:DAYLIGHT
BEGIN:STANDARD
TZOFFSETFROM:+0200
TZOFFSETTO:+0100
TZNAME:CET
DTSTART:20251026T010000
END:STANDARD
BEGIN:DAYLIGHT
TZOFFSETFROM:+0100
TZOFFSETTO:+0200
TZNAME:CEST
DTSTART:20260329T010000
END:DAYLIGHT
BEGIN:STANDARD
TZOFFSETFROM:+0200
TZOFFSETTO:+0100
TZNAME:CET
DTSTART:20261025T010000
END:STANDARD
END:VTIMEZONE
BEGIN:VEVENT
DTSTART;TZID=Europe/Paris:20250321T080000
DTEND;TZID=Europe/Paris:20250323T190000
DTSTAMP:20260424T005408
CREATED:20250315T093040Z
LAST-MODIFIED:20250329T092822Z
UID:627-1742544000-1742756400@golfglobalproject.com
SUMMARY:Grand Prix de Bordeaux
DESCRIPTION:
URL:https://golfglobalproject.com/calendrier/grand-prix-de-de-bordeaux/
LOCATION:Golf Bluegreen Bordeaux Lac\, Avenue de Pernon\, Bordeaux\, 33300\, France
CATEGORIES:Grand prix WAGR
END:VEVENT
END:VCALENDAR