BEGIN:VCALENDAR
VERSION:2.0
PRODID:-//Golf Global Project - ECPv6.15.17.1//NONSGML v1.0//EN
CALSCALE:GREGORIAN
METHOD:PUBLISH
X-WR-CALNAME:Golf Global Project
X-ORIGINAL-URL:https://golfglobalproject.com
X-WR-CALDESC:Évènements pour Golf Global Project
REFRESH-INTERVAL;VALUE=DURATION:PT1H
X-Robots-Tag:noindex
X-PUBLISHED-TTL:PT1H
BEGIN:VTIMEZONE
TZID:Europe/Paris
BEGIN:DAYLIGHT
TZOFFSETFROM:+0100
TZOFFSETTO:+0200
TZNAME:CEST
DTSTART:20240331T010000
END:DAYLIGHT
BEGIN:STANDARD
TZOFFSETFROM:+0200
TZOFFSETTO:+0100
TZNAME:CET
DTSTART:20241027T010000
END:STANDARD
BEGIN:DAYLIGHT
TZOFFSETFROM:+0100
TZOFFSETTO:+0200
TZNAME:CEST
DTSTART:20250330T010000
END:DAYLIGHT
BEGIN:STANDARD
TZOFFSETFROM:+0200
TZOFFSETTO:+0100
TZNAME:CET
DTSTART:20251026T010000
END:STANDARD
BEGIN:DAYLIGHT
TZOFFSETFROM:+0100
TZOFFSETTO:+0200
TZNAME:CEST
DTSTART:20260329T010000
END:DAYLIGHT
BEGIN:STANDARD
TZOFFSETFROM:+0200
TZOFFSETTO:+0100
TZNAME:CET
DTSTART:20261025T010000
END:STANDARD
END:VTIMEZONE
BEGIN:VEVENT
DTSTART;TZID=Europe/Paris:20250731T080000
DTEND;TZID=Europe/Paris:20250803T170000
DTSTAMP:20260424T095415
CREATED:20250522T080816Z
LAST-MODIFIED:20250723T163855Z
UID:834-1753948800-1754240400@golfglobalproject.com
SUMMARY:Grand Prix de Pau Golf Club 1856
DESCRIPTION:
URL:https://golfglobalproject.com/calendrier/grand-prix-de-pau-golf-club-1856/
LOCATION:PAU GOLF CLUB 1856\, Rue du Golf\, BILLERE\, 64140\, France
CATEGORIES:Grand prix WAGR
END:VEVENT
END:VCALENDAR