BEGIN:VCALENDAR
VERSION:2.0
PRODID:-//Golf Global Project - ECPv6.15.17.1//NONSGML v1.0//EN
CALSCALE:GREGORIAN
METHOD:PUBLISH
X-WR-CALNAME:Golf Global Project
X-ORIGINAL-URL:https://golfglobalproject.com
X-WR-CALDESC:Évènements pour Golf Global Project
REFRESH-INTERVAL;VALUE=DURATION:PT1H
X-Robots-Tag:noindex
X-PUBLISHED-TTL:PT1H
BEGIN:VTIMEZONE
TZID:Europe/Paris
BEGIN:DAYLIGHT
TZOFFSETFROM:+0100
TZOFFSETTO:+0200
TZNAME:CEST
DTSTART:20240331T010000
END:DAYLIGHT
BEGIN:STANDARD
TZOFFSETFROM:+0200
TZOFFSETTO:+0100
TZNAME:CET
DTSTART:20241027T010000
END:STANDARD
BEGIN:DAYLIGHT
TZOFFSETFROM:+0100
TZOFFSETTO:+0200
TZNAME:CEST
DTSTART:20250330T010000
END:DAYLIGHT
BEGIN:STANDARD
TZOFFSETFROM:+0200
TZOFFSETTO:+0100
TZNAME:CET
DTSTART:20251026T010000
END:STANDARD
BEGIN:DAYLIGHT
TZOFFSETFROM:+0100
TZOFFSETTO:+0200
TZNAME:CEST
DTSTART:20260329T010000
END:DAYLIGHT
BEGIN:STANDARD
TZOFFSETFROM:+0200
TZOFFSETTO:+0100
TZNAME:CET
DTSTART:20261025T010000
END:STANDARD
END:VTIMEZONE
BEGIN:VEVENT
DTSTART;TZID=Europe/Paris:20250502T080000
DTEND;TZID=Europe/Paris:20250504T170000
DTSTAMP:20260424T143800
CREATED:20250329T095614Z
LAST-MODIFIED:20250521T092708Z
UID:712-1746172800-1746378000@golfglobalproject.com
SUMMARY:Grand Prix de Palmola
DESCRIPTION:
URL:https://golfglobalproject.com/calendrier/grand-prix-de-palmola/
LOCATION:GOLF COUNTRY CLUB DE PALMOLA\, Route d'Albi\, BUZET-SUR-TARN\, 31660\, France
CATEGORIES:Grand prix WAGR
END:VEVENT
BEGIN:VEVENT
DTSTART;TZID=Europe/Paris:20250510T080000
DTEND;TZID=Europe/Paris:20250511T170000
DTSTAMP:20260424T143800
CREATED:20250329T095715Z
LAST-MODIFIED:20250521T093059Z
UID:714-1746864000-1746982800@golfglobalproject.com
SUMMARY:Grand Prix de Toulouse Seilh
DESCRIPTION:
URL:https://golfglobalproject.com/calendrier/grand-prix-de-toulouse-seilh/
LOCATION:UGOLF TOULOUSE SEILH\, 2 Route de Grenade\, SEILH\, 31840\, France
CATEGORIES:Grand prix
END:VEVENT
END:VCALENDAR