BEGIN:VCALENDAR
VERSION:2.0
PRODID:-//Golf Global Project - ECPv6.15.17.1//NONSGML v1.0//EN
CALSCALE:GREGORIAN
METHOD:PUBLISH
X-WR-CALNAME:Golf Global Project
X-ORIGINAL-URL:https://golfglobalproject.com
X-WR-CALDESC:Évènements pour Golf Global Project
REFRESH-INTERVAL;VALUE=DURATION:PT1H
X-Robots-Tag:noindex
X-PUBLISHED-TTL:PT1H
BEGIN:VTIMEZONE
TZID:Europe/Paris
BEGIN:DAYLIGHT
TZOFFSETFROM:+0100
TZOFFSETTO:+0200
TZNAME:CEST
DTSTART:20240331T010000
END:DAYLIGHT
BEGIN:STANDARD
TZOFFSETFROM:+0200
TZOFFSETTO:+0100
TZNAME:CET
DTSTART:20241027T010000
END:STANDARD
BEGIN:DAYLIGHT
TZOFFSETFROM:+0100
TZOFFSETTO:+0200
TZNAME:CEST
DTSTART:20250330T010000
END:DAYLIGHT
BEGIN:STANDARD
TZOFFSETFROM:+0200
TZOFFSETTO:+0100
TZNAME:CET
DTSTART:20251026T010000
END:STANDARD
BEGIN:DAYLIGHT
TZOFFSETFROM:+0100
TZOFFSETTO:+0200
TZNAME:CEST
DTSTART:20260329T010000
END:DAYLIGHT
BEGIN:STANDARD
TZOFFSETFROM:+0200
TZOFFSETTO:+0100
TZNAME:CET
DTSTART:20261025T010000
END:STANDARD
END:VTIMEZONE
BEGIN:VEVENT
DTSTART;TZID=Europe/Paris:20251010T080000
DTEND;TZID=Europe/Paris:20251012T170000
DTSTAMP:20260424T082136
CREATED:20250915T142643Z
LAST-MODIFIED:20250915T142643Z
UID:1045-1760083200-1760288400@golfglobalproject.com
SUMMARY:Internationaux de France de Foursome Mixte
DESCRIPTION:Trophée Thion de la Chaume
URL:https://golfglobalproject.com/calendrier/internationaux-de-france-de-foursome-mixte/
LOCATION:GOLF CLUB ESERY GRAND GENEVE\, 28 allée du Château\, REIGNIER-ESERY\, 74930\, France
CATEGORIES:Internationaux
END:VEVENT
BEGIN:VEVENT
DTSTART;TZID=Europe/Paris:20251024T080000
DTEND;TZID=Europe/Paris:20251026T170000
DTSTAMP:20260424T082136
CREATED:20251023T085548Z
LAST-MODIFIED:20251023T085548Z
UID:1079-1761292800-1761498000@golfglobalproject.com
SUMMARY:Internationaux d'Espagne de StrokePlay Dames
DESCRIPTION:
URL:https://golfglobalproject.com/calendrier/internationaux-despagne-de-strokeplay-dames/
LOCATION:Parador El Saler\, Spain
CATEGORIES:Grand prix,Grand prix WAGR,Internationaux
END:VEVENT
END:VCALENDAR