BEGIN:VCALENDAR
VERSION:2.0
PRODID:-//Golf Global Project - ECPv6.15.17.1//NONSGML v1.0//EN
CALSCALE:GREGORIAN
METHOD:PUBLISH
X-WR-CALNAME:Golf Global Project
X-ORIGINAL-URL:https://golfglobalproject.com
X-WR-CALDESC:Évènements pour Golf Global Project
REFRESH-INTERVAL;VALUE=DURATION:PT1H
X-Robots-Tag:noindex
X-PUBLISHED-TTL:PT1H
BEGIN:VTIMEZONE
TZID:Europe/Paris
BEGIN:DAYLIGHT
TZOFFSETFROM:+0100
TZOFFSETTO:+0200
TZNAME:CEST
DTSTART:20250330T010000
END:DAYLIGHT
BEGIN:STANDARD
TZOFFSETFROM:+0200
TZOFFSETTO:+0100
TZNAME:CET
DTSTART:20251026T010000
END:STANDARD
BEGIN:DAYLIGHT
TZOFFSETFROM:+0100
TZOFFSETTO:+0200
TZNAME:CEST
DTSTART:20260329T010000
END:DAYLIGHT
BEGIN:STANDARD
TZOFFSETFROM:+0200
TZOFFSETTO:+0100
TZNAME:CET
DTSTART:20261025T010000
END:STANDARD
BEGIN:DAYLIGHT
TZOFFSETFROM:+0100
TZOFFSETTO:+0200
TZNAME:CEST
DTSTART:20270328T010000
END:DAYLIGHT
BEGIN:STANDARD
TZOFFSETFROM:+0200
TZOFFSETTO:+0100
TZNAME:CET
DTSTART:20271031T010000
END:STANDARD
END:VTIMEZONE
BEGIN:VEVENT
DTSTART;TZID=Europe/Paris:20260424T080000
DTEND;TZID=Europe/Paris:20260426T170000
DTSTAMP:20260423T172601
CREATED:20260327T090528Z
LAST-MODIFIED:20260327T090721Z
UID:1139-1777017600-1777222800@golfglobalproject.com
SUMMARY:Coupe Frayssineau Mouchy
DESCRIPTION:
URL:https://golfglobalproject.com/calendrier/coupe-frayssineau-mouchy/
LOCATION:GOLF DE FONTAINEBLEAU\, Route d'Orléans\, FONTAINEBLEAU\, 77300\, France
CATEGORIES:Grand prix,Grand prix WAGR
END:VEVENT
BEGIN:VEVENT
DTSTART;TZID=Europe/Paris:20260501T080000
DTEND;TZID=Europe/Paris:20260503T170000
DTSTAMP:20260423T172601
CREATED:20260219T174515Z
LAST-MODIFIED:20260327T090750Z
UID:1115-1777622400-1777827600@golfglobalproject.com
SUMMARY:Grand Prix de Palmola
DESCRIPTION:
URL:https://golfglobalproject.com/calendrier/grand-prix-de-palmola-2/
LOCATION:GOLF COUNTRY CLUB DE PALMOLA\, Route d'Albi\, BUZET-SUR-TARN\, 31660\, France
CATEGORIES:Grand prix,Grand prix WAGR
END:VEVENT
BEGIN:VEVENT
DTSTART;TZID=Europe/Paris:20260509T080000
DTEND;TZID=Europe/Paris:20260510T170000
DTSTAMP:20260423T172601
CREATED:20260327T091014Z
LAST-MODIFIED:20260327T091014Z
UID:1141-1778313600-1778432400@golfglobalproject.com
SUMMARY:Grand Prix de la Ligue des Pays de la Loire
DESCRIPTION:
URL:https://golfglobalproject.com/calendrier/grand-prix-de-la-ligue-des-pays-de-la-loire/
LOCATION:GOLF DE CHOLET\, Allée du Chêne Landry\, CHOLET\, 49300\, France
CATEGORIES:Grand prix
END:VEVENT
BEGIN:VEVENT
DTSTART;TZID=Europe/Paris:20260702T080000
DTEND;TZID=Europe/Paris:20260705T170000
DTSTAMP:20260423T172601
CREATED:20260327T114050Z
LAST-MODIFIED:20260327T114050Z
UID:1143-1782979200-1783270800@golfglobalproject.com
SUMMARY:Grand Prix de Chiberta
DESCRIPTION:
URL:https://golfglobalproject.com/calendrier/grand-prix-de-chiberta-2/
LOCATION:GOLF DE CHIBERTA\, 104 boulevard des Plages\, ANGLET\, 64600\, France
CATEGORIES:Grand prix WAGR
END:VEVENT
BEGIN:VEVENT
DTSTART;TZID=Europe/Paris:20260716T080000
DTEND;TZID=Europe/Paris:20260719T170000
DTSTAMP:20260423T172601
CREATED:20260327T114235Z
LAST-MODIFIED:20260327T114235Z
UID:1145-1784188800-1784480400@golfglobalproject.com
SUMMARY:Grand Prix des Landes Hossegor
DESCRIPTION:
URL:https://golfglobalproject.com/calendrier/grand-prix-des-landes-hossegor-2/
LOCATION:GOLF CLUB D’HOSSEGOR\, 333 avenue du Golf\, HOSSEGOR\, 40150\, France
CATEGORIES:Grand prix WAGR
END:VEVENT
BEGIN:VEVENT
DTSTART;TZID=Europe/Paris:20260811T080000
DTEND;TZID=Europe/Paris:20260815T170000
DTSTAMP:20260423T172601
CREATED:20260327T114402Z
LAST-MODIFIED:20260327T114402Z
UID:1147-1786435200-1786813200@golfglobalproject.com
SUMMARY:Grand Prix de Bretagne
DESCRIPTION:
URL:https://golfglobalproject.com/calendrier/grand-prix-de-bretagne/
LOCATION:DINARD GOLF\, Boulevard de la Houle\, SAINT BRIAC SUR MER\, 35800\, France
CATEGORIES:Grand prix WAGR
END:VEVENT
BEGIN:VEVENT
DTSTART;TZID=Europe/Paris:20260911T080000
DTEND;TZID=Europe/Paris:20260913T170000
DTSTAMP:20260423T172601
CREATED:20260327T114550Z
LAST-MODIFIED:20260327T114550Z
UID:1149-1789113600-1789318800@golfglobalproject.com
SUMMARY:Grand Prix d'Albi
DESCRIPTION:
URL:https://golfglobalproject.com/calendrier/grand-prix-dalbi-2/
LOCATION:UGOLF ALBI\, Chemin de Lasbordes\, ALBI\, 81000\, France
CATEGORIES:Grand prix,Grand prix WAGR
END:VEVENT
END:VCALENDAR